BEGIN:VCALENDAR
VERSION:2.0
PRODID:Imitheme.com 
BEGIN:VEVENT
UID:20260420T1831181607771812
DTSTAMP;TZID=UTC:2026-04-20 18:31:18
DTSTART;TZID=America/Los_Angeles:20260420T183118
DTEND;TZID=America/Los_Angeles:20260420T183118
SUMMARY:Wednesday 13 December 2023 – Lectionary
LOCATION:
DESCRIPTION:Wednesday 13 Ember Day Morning Prayer Holy Eucharist Evening Prayer (p) (p) (p) Psalms 62, 63 Isaiah 40:25-end Psalms 10, 14 Isaiah 31 Psalm 103:1, 8-13 Isaiah 47 Matthew 15:1-20 Matthew 11:11-15 1 Thess 2:13-end
URL:https://www.acom.org.sb/eventer/wednesday-13-december-2023-lectionary/
END:VEVENT
END:VCALENDAR
