BEGIN:VCALENDAR
VERSION:2.0
PRODID:Imitheme.com 
BEGIN:VEVENT
UID:20260419T2335191894078747
DTSTAMP;TZID=UTC:2026-04-19 23:35:19
DTSTART;TZID=America/Los_Angeles:20260419T233519
DTEND;TZID=America/Los_Angeles:20260419T233519
SUMMARY:Saturday 30 September 2023 – Lectionary
LOCATION:
DESCRIPTION:Saturday 30 St. Jerome, Translator of the Scriptures, 420, III Morning Prayer Holy Eucharist Evening Prayer (g) (w) (g) Psalm 76 Zechariah 2:1-5,10-11 Psalm 84 Ezekiel 9 Psalm 125 1 Kings 19 Mark 13:32-end Luke 9:43b-45 Acts 21:17-36 Collect: Trinity 17
URL:https://www.acom.org.sb/eventer/saturday-30-september-2023-lectionary/
END:VEVENT
END:VCALENDAR
