BEGIN:VCALENDAR
VERSION:2.0
PRODID:Imitheme.com 
BEGIN:VEVENT
UID:20260422T2159251645407043
DTSTAMP;TZID=UTC:2026-04-22 21:59:25
DTSTART;TZID=America/Los_Angeles:20260422T215925
DTEND;TZID=America/Los_Angeles:20260422T215925
SUMMARY:Monday 17 July 2023 - Lectionary
LOCATION:
DESCRIPTION:Monday 17 Ellison Tergortok, Missionary Priest, Tikopia, 1956 Morning Prayer Holy Eucharist Evening Prayer (g) (g) (g) Psalm 1 Exodus 1:8-14, 22 Psalm 4 Esther 4 Psalm 124 1 Samuel 5 2 Corinthians 6:1- -7:1 Matthew 10:34- -11:1 Luke 20:41- -21:4
URL:https://www.acom.org.sb/eventer/monday-17-july-2023-lectionary/
END:VEVENT
END:VCALENDAR
