BEGIN:VCALENDAR
VERSION:2.0
PRODID:Imitheme.com 
BEGIN:VEVENT
UID:20260423T0827551533464030
DTSTAMP;TZID=UTC:2026-04-23 08:27:55
DTSTART;TZID=America/Los_Angeles:20260423T082755
DTEND;TZID=America/Los_Angeles:20260423T082755
SUMMARY:Tuesday 13 June 2023 – Lectionary
LOCATION:
DESCRIPTION:Tuesday 13 Morning Prayer Holy Eucharist Evening Prayer (g) (g) (g) Psalms 48, 52 2 Corinthians 1:18-22 Psalm 50 2 Chronicles 34:1-18 Psalm 119:129-136 Joshua 21:43- -22:8 Romans 7:7-end Matthew 5:13-16 Luke 12:13-21
URL:https://www.acom.org.sb/eventer/tuesday-13-june-2023-lectionary/
END:VEVENT
END:VCALENDAR
