BEGIN:VCALENDAR
VERSION:2.0
PRODID:Imitheme.com 
BEGIN:VEVENT
UID:20260425T212330169736469
DTSTAMP;TZID=UTC:2026-04-25 21:23:30
DTSTART;TZID=America/Los_Angeles:20260425T212330
DTEND;TZID=America/Los_Angeles:20260425T212330
SUMMARY:Tuesday 6 June 2023 – Lectionary
LOCATION:ACOM Churches
DESCRIPTION:Tuesday 6 Ini Kopuria, Religious, Founder of MBH, 1945, III Morning Prayer Holy Eucharist Evening Prayer (g) (w) (g) Psalms 32, 36 1 Peter 1:10-16 Psalm 33 2 Chronicles 28 Psalm 112 Joshua 7:16-end Romans 4:13-end Mark 10:46-end Luke 10:38-end
URL:https://www.acom.org.sb/eventer/tuesday-6-june-2023-lectionary/
END:VEVENT
END:VCALENDAR
