BEGIN:VCALENDAR
VERSION:2.0
PRODID:Imitheme.com 
BEGIN:VEVENT
UID:20260424T185555260734148
DTSTAMP;TZID=UTC:2026-04-24 18:55:55
DTSTART;TZID=America/Los_Angeles:20260424T185555
DTEND;TZID=America/Los_Angeles:20260424T185555
SUMMARY:Tuesday 9 May 2023 - Lectionary
LOCATION:
DESCRIPTION:Tuesday 9 Morning Prayer Holy Eucharist Evening Prayer (w) (w) (w) Psalms 19, 147:1-12 Acts 14:19-end Psalms 96, 97 Deuteronomy 17:8-end Psalm 145:10-21 Numbers 11:1-33 1 Peter 1:13-end John 14:27-end Luke 5:1-11
URL:https://www.acom.org.sb/eventer/tuesday-9-may-2023/
END:VEVENT
END:VCALENDAR
